{"text_format":"1","workbook":"xlsx","n_sheets":5,"sheets":["Start","AS_1_Daten_Alterstruktur","AS_2_Ergebnis_Altersstruktur"," AS_3_Ergebnis _Gesamt","AS_4_Ergebnis_Abteilungen"],"not_rendered":{"charts":22,"images":8,"macros":1,"external_links":0,"defined_names":3,"comments":0,"pivot_tables":0},"unopened":[],"bounds":{"document_bytes":16777216,"sheet_cells":100000,"rows_first":2000,"rows_last":500,"rows_between":2000,"halvings":0,"cell_chars":16384,"cell_head_chars":4096},"cells_cut":0,"cells_raw":0,"read":"whole","date_system":"1900"}

{"sheet":"Start","index":0,"n_rows":22,"n_cols":1,"rows_kept":22,"cut":false,"hidden":false,"merged":[[20,0,20,6],[21,0,21,6],[2,2,2,6],[3,2,3,6],[4,2,4,6],[5,2,5,6],[18,0,18,6],[12,0,12,6],[16,0,16,6],[10,0,10,6],[11,0,11,6],[13,0,13,6],[15,0,15,6]]}
["Altersstrukturanalyse in Unternehmen der Druckindustrie"]
[]
["Unternehmen:"]
["Name und Funktion:"]
["Datum: "]
["Berater:"]
[]
[]
["Hinweise zum Fragebogen"]
[]
["Die hier erhobenen Daten dienen zur Ableitung demografiebedingter Personal- und Organisationsentwicklungsmaßnahmen sowie der Darstellung vorhandener Kompetenzen in Ihrem Unternehmen. "]
["Auf Grundlage dieser Daten möchten wir mit Ihnen Handlungsfelder für eine nachhaltige Gestaltung der Personal- und Kompetenzentwicklung in Ihrem Unternehmen erarbeiten. Konkrete Vorschläge und Maßnahmen können in einem Abschlussgespräch entwickelt werden."]
["Die Fragen behandeln folgende Themenbereiche:\n\n"]
["• Altersstrukturanalyse"]
["• Personalstruktur und Personalentwicklung"]
[]
["Für die Erhebung der Daten ist die aktive Mitarbeit aller Beteiligten von besonderer Bedeutung. Daher sind alle Schritte im Vorfeld auch mit der Personalvertretung abzustimmen und den Mitarbeitern zu erläutern."]
[]
["Sämtliche Daten werden vertraulich behandelt. Vielen Dank für Ihre Mitarbeit!"]
[]
["Hinweis zum Vollbildmodus: Diese Datei wird beim Öffnen automatisch im Vollbildmodus angezeigt. Sie können dies durch Drücken der Esc-Taste abstellen."]
["Hinweis zur Navigation in Tabellen: Mit der Tastenkombination „STRG (Ctrl) + Bild ab\" springen Sie zur nächsten Tabelle, mit „STRG (Ctrl) + Bild auf\" zur vorhergehenden."]

{"sheet":"AS_1_Daten_Alterstruktur","index":1,"n_rows":309,"n_cols":17,"rows_kept":309,"cut":false,"hidden":false,"merged":[[1,0,1,3],[0,0,0,6],[2,0,2,4]]}
["1 Personalstruktur des Betriebes"]
["1.1 Datenerfassung"]
["Bitte tragen Sie hier Ihre Abteilungen/Betriebsbereiche ein! Diese können dann den Daten Ihrer Mitarbeiter/innen zugeordnet werden."]
["Vorstufe","Druck","Verarbeitung","Digitale Medien","Vertrieb","Kaufmännisch"]
[]
["Bitte geben Sie hier die statistischen Daten der Mitarbeiter/innen Ihres Unternehmens ein!"]
["Geburtsdaten","Geschlecht","Alter","Abteilung/Bereich",null,null,null,null,null,null,null,null,null,null,null,"Geschlecht","Bereiche"]
["1963-09-02","männlich",{"$f":"IF(ISNUMBER(A8),YEAR(TODAY())-YEAR(A8),\"\")","v":51},"Kaufmännisch",null,null,null,null,null,null,null,null,null,null,null,"männlich","Vorstufe"]
["1950-01-01","männlich",{"$f":"IF(ISNUMBER(A9),YEAR(TODAY())-YEAR(A9),\"\")","v":64},"Kaufmännisch",null,null,null,null,null,null,null,null,null,null,null,"weiblich","Druck"]
["1990-03-12","weiblich",24,"Kaufmännisch",null,null,null,null,null,null,null,null,null,null,null,null,"Verarbeitung"]
["1970-01-15","männlich",44,"Kaufmännisch",null,null,null,null,null,null,null,null,null,null,null,null,"Digitale Medien"]
["1958-01-17","weiblich",56,"Kaufmännisch",null,null,null,null,null,null,null,null,null,null,null,null,"Vertrieb"]
["1950-05-05","männlich",64,"Kaufmännisch",null,null,null,null,null,null,null,null,null,null,null,null,"Kaufmännisch"]
["1983-09-02","männlich",31,"Kaufmännisch"]
["1990-01-01","männlich",24,"Kaufmännisch"]
["1950-03-12","weiblich",64,"Kaufmännisch"]
["1970-01-15","männlich",44,"Kaufmännisch"]
["1958-01-17","weiblich",56,"Kaufmännisch"]
["1950-05-05","männlich",64,"Kaufmännisch"]
["1995-09-02","männlich",19,"Kaufmännisch"]
["1990-01-01","männlich",24,"Kaufmännisch"]
["1985-03-12","weiblich",29,"Kaufmännisch"]
["1980-01-15","männlich",34,"Kaufmännisch"]
["1994-01-17","weiblich",20,"Kaufmännisch"]
["1993-05-05","männlich",21,"Kaufmännisch"]
["1963-09-02","männlich",51,"Vorstufe"]
["1950-01-01","männlich",64,"Vorstufe"]
["1990-03-12","weiblich",24,"Vorstufe"]
["1970-01-15","männlich",44,"Vorstufe"]
["1958-01-17","weiblich",56,"Vorstufe"]
["1950-05-05","männlich",64,"Vorstufe"]
["1983-09-02","männlich",31,"Vorstufe"]
["1990-01-01","männlich",24,"Vorstufe"]
["1950-03-12","weiblich",64,"Vorstufe"]
["1970-01-15","männlich",44,"Vorstufe"]
["1958-01-17","weiblich",56,"Vorstufe"]
["1950-05-05","männlich",64,"Vorstufe"]
["1995-09-02","männlich",19,"Druck"]
["1990-01-01","männlich",24,"Druck"]
["1985-03-12","weiblich",29,"Druck"]
["1980-01-15","männlich",34,"Druck"]
["1994-01-17","weiblich",20,"Druck"]
["1993-05-05","männlich",21,"Druck"]
["1963-09-02","männlich",51,"Verarbeitung"]
["1950-01-01","männlich",64,"Verarbeitung"]
["1990-03-12","weiblich",24,"Verarbeitung"]
["1970-01-15","männlich",44,"Verarbeitung"]
["1958-01-17","weiblich",56,"Verarbeitung"]
["1950-05-05","männlich",64,"Verarbeitung"]
["1983-09-02","männlich",31,"Verarbeitung"]
["1990-01-01","männlich",24,"Verarbeitung"]
["1950-03-12","weiblich",64,"Verarbeitung"]
["1970-01-15","männlich",44,"Verarbeitung"]
["1958-01-17","weiblich",56,"Verarbeitung"]
["1950-05-05","männlich",64,"Verarbeitung"]
["1995-09-02","männlich",19,"Verarbeitung"]
["1990-01-01","männlich",24,"Verarbeitung"]
["1985-03-12","weiblich",29,"Verarbeitung"]
["1980-01-15","männlich",34,"Verarbeitung"]
["1994-01-17","weiblich",20,"Verarbeitung"]
["1993-05-05","männlich",21,"Verarbeitung"]
["1963-09-02","männlich",51,"Verarbeitung"]
["1950-01-01","männlich",64,"Verarbeitung"]
["1990-03-12","weiblich",24,"Verarbeitung"]
["1970-01-15","männlich",44,"Verarbeitung"]
["1958-01-17","weiblich",56,"Verarbeitung"]
["1950-05-05","männlich",64,"Verarbeitung"]
["1983-09-02","männlich",31,"Verarbeitung"]
["1990-01-01","männlich",24,"Verarbeitung"]
["1950-03-12","weiblich",64,"Verarbeitung"]
["1970-01-15","männlich",44,"Verarbeitung"]
["1958-01-17","weiblich",56,"Verarbeitung"]
["1950-05-05","männlich",{"$f":"IF(ISNUMBER(A73),YEAR(TODAY())-YEAR(A73),\"\")","v":64},"Verarbeitung"]
["1995-09-02","männlich",19,"Verarbeitung"]
["1990-01-01","männlich",24,"Verarbeitung"]
["1985-03-12","weiblich",29,"Verarbeitung"]
["1980-01-15","männlich",34,"Druck"]
["1994-01-17","weiblich",20,"Druck"]
["1993-05-05","männlich",21,"Druck"]
["1985-03-12","weiblich",29,"Digitale Medien"]
["1980-01-15","männlich",34,"Digitale Medien"]
["1994-01-17","weiblich",20,"Digitale Medien"]
["1993-05-05","männlich",21,"Digitale Medien"]
["1963-09-02","männlich",51,"Digitale Medien"]
["1950-01-01","männlich",64,"Digitale Medien"]
["1990-03-12","weiblich",24,"Digitale Medien"]
["1970-01-15","männlich",44,"Digitale Medien"]
["1958-01-17","weiblich",56,"Digitale Medien"]
["1950-05-05","männlich",64,"Digitale Medien"]
["1983-09-02","männlich",31,"Digitale Medien"]
["1990-01-01","männlich",24,"Digitale Medien"]
["1950-03-12","weiblich",64,"Digitale Medien"]
["1970-01-15","männlich",44,"Digitale Medien"]
["1958-01-17","weiblich",56,"Digitale Medien"]
["1950-05-05","männlich",64,"Digitale Medien"]
["1995-09-02","männlich",19,"Digitale Medien"]
["1990-01-01","männlich",24,"Digitale Medien"]
["1985-03-12","weiblich",29,"Digitale Medien"]
["1980-01-15","männlich",34,"Digitale Medien"]
["1994-01-17","weiblich",20,"Digitale Medien"]
["1993-05-05","männlich",21,"Digitale Medien"]
["1963-09-02","männlich",51,"Digitale Medien"]
["1950-01-01","männlich",64,"Digitale Medien"]
["1990-03-12","weiblich",24,"Digitale Medien"]
["1970-01-15","männlich",44,"Digitale Medien"]
["1958-01-17","weiblich",56,"Digitale Medien"]
["1950-05-05","männlich",64,"Digitale Medien"]
["1983-09-02","männlich",31,"Digitale Medien"]
["1990-01-01","männlich",24,"Digitale Medien"]
["1950-03-12","weiblich",64,"Digitale Medien"]
["1970-01-15","männlich",44,"Digitale Medien"]
["1958-01-17","weiblich",56,"Digitale Medien"]
["1950-05-05","männlich",64,"Digitale Medien"]
["1995-09-02","männlich",19,"Digitale Medien"]
["1990-01-01","männlich",24,"Digitale Medien"]
["1985-03-12","weiblich",29,"Digitale Medien"]
["1980-01-15","männlich",34,"Digitale Medien"]
["1994-01-17","weiblich",20,"Druck"]
["1993-05-05","männlich",21,"Druck"]
["1950-05-05","männlich",64,"Vertrieb"]
["1995-09-02","männlich",19,"Vertrieb"]
["1990-01-01","männlich",24,"Vertrieb"]
["1985-03-12","weiblich",29,"Vertrieb"]
["1980-01-15","männlich",34,"Vertrieb"]
["1994-01-17","weiblich",20,"Vertrieb"]
["1993-05-05","männlich",21,"Vertrieb"]
["1963-09-02","männlich",51,"Vertrieb"]
["1950-01-01","männlich",64,"Vertrieb"]
["1990-03-12","weiblich",24,"Vertrieb"]
["1970-01-15","männlich",44,"Vertrieb"]
["1958-01-17","weiblich",56,"Vertrieb"]
["1950-05-05","männlich",64,"Vertrieb"]
["1983-09-02","männlich",31,"Vertrieb"]
["1990-01-01","männlich",24,"Vertrieb"]
["1950-03-12","weiblich",64,"Vertrieb"]
["1970-01-15","männlich",44,"Vertrieb"]
["1958-01-17","weiblich",{"$f":"IF(ISNUMBER(A137),YEAR(TODAY())-YEAR(A137),\"\")","v":56},"Vertrieb"]
["1950-05-05","männlich",64,"Vertrieb"]
["1995-09-02","männlich",19,"Vertrieb"]
["1990-01-01","männlich",24,"Vertrieb"]
["1985-03-12","weiblich",29,"Vertrieb"]
["1980-01-15","männlich",34,"Vertrieb"]
["1994-01-17","weiblich",20,"Vertrieb"]
["1993-05-05","männlich",21,"Vertrieb"]
["1963-09-02","männlich",51,"Vertrieb"]
["1950-01-01","männlich",64,"Vertrieb"]
["1990-03-12","weiblich",24,"Vertrieb"]
["1970-01-15","männlich",44,"Vertrieb"]
["1958-01-17","weiblich",56,"Vertrieb"]
["1950-05-05","männlich",64,"Vertrieb"]
["1983-09-02","männlich",31,"Vertrieb"]
["1990-01-01","männlich",24,"Vertrieb"]
["1950-03-12","weiblich",64,"Vertrieb"]
[null,null,""]
[null,null,""]
[null,null,""]
[null,null,""]
[null,null,""]
[null,null,""]
[null,null,""]
[null,null,""]
[null,null,""]
[null,null,""]
[null,null,""]
[null,null,""]
[null,null,""]
[null,null,""]
[null,null,""]
[null,null,""]
[null,null,""]
[null,null,""]
[null,null,""]
[null,null,""]
[null,null,""]
[null,null,""]
[null,null,""]
[null,null,""]
[null,null,""]
[null,null,""]
[null,null,""]
[null,null,""]
[null,null,""]
[null,null,""]
[null,null,""]
[null,null,""]
[null,null,""]
[null,null,""]
[null,null,""]
[null,null,""]
[null,null,""]
[null,null,""]
[null,null,""]
[null,null,""]
[null,null,""]
[null,null,""]
[null,null,""]
[null,null,""]
[null,null,""]
[null,null,""]
[null,null,""]
[null,null,{"$f":"IF(ISNUMBER(A201),YEAR(TODAY())-YEAR(A201),\"\")","v":""}]
[null,null,""]
[null,null,""]
[null,null,""]
[null,null,""]
[null,null,""]
[null,null,""]
[null,null,""]
[null,null,""]
[null,null,""]
[null,null,""]
[null,null,""]
[null,null,""]
[null,null,""]
[null,null,""]
[null,null,""]
[null,null,""]
[null,null,""]
[null,null,""]
[null,null,""]
[null,null,""]
[null,null,""]
[null,null,""]
[null,null,""]
[null,null,""]
[null,null,""]
[null,null,""]
[null,null,""]
[null,null,""]
[null,null,""]
[null,null,""]
[null,null,""]
[null,null,""]
[null,null,""]
[null,null,""]
[null,null,""]
[null,null,""]
[null,null,""]
[null,null,""]
[null,null,""]
[null,null,""]
[null,null,""]
[null,null,""]
[null,null,""]
[null,null,""]
[null,null,""]
[null,null,""]
[null,null,""]
[null,null,""]
[null,null,""]
[null,null,""]
[null,null,""]
[null,null,""]
[null,null,""]
[null,null,""]
[null,null,""]
[null,null,""]
[null,null,""]
[null,null,""]
[null,null,""]
[null,null,""]
[null,null,""]
[null,null,""]
[null,null,""]
[null,null,{"$f":"IF(ISNUMBER(A265),YEAR(TODAY())-YEAR(A265),\"\")","v":""}]
[null,null,""]
[null,null,""]
[null,null,""]
[null,null,""]
[null,null,""]
[null,null,""]
[null,null,""]
[null,null,""]
[null,null,""]
[null,null,""]
[null,null,""]
[null,null,""]
[null,null,""]
[null,null,""]
[null,null,""]
[null,null,""]
[null,null,""]
[null,null,""]
[null,null,""]
[null,null,""]
[null,null,""]
[null,null,""]
[null,null,""]
[null,null,""]
[null,null,""]
[null,null,""]
[null,null,""]
[null,null,""]
[null,null,""]
[null,null,""]
[null,null,""]
[null,null,""]
[null,null,""]
[null,null,""]
[null,null,""]
[null,null,""]
[null,null,""]
[null,null,""]
[null,null,""]
[null,null,""]
[null,null,""]
[]
["Anzahl",{"$f":"SUBTOTAL(3,B8:B306)","v":146},null,{"$f":"SUBTOTAL(3,D8:D306)","v":146}]
["Durchschnitt",null,{"$f":"SUBTOTAL(1,C8:C306)","v":40.19178082191781}]

{"sheet":"AS_2_Ergebnis_Altersstruktur","index":2,"n_rows":58,"n_cols":13,"rows_kept":58,"cut":false,"hidden":false,"merged":[[50,0,50,1],[0,0,0,6],[2,0,2,1],[11,0,11,1],[20,0,20,1]]}
["1.2 Allgemeine Personalstruktur, Abteilungen und Altersstruktur"]
[]
["Abteilung/Bereich:",null,{"$f":"AS_1_Daten_Alterstruktur!A4","v":"Vorstufe"},null,null,null,"Durchschnittsalter gesamt:",null,null,39.722222222222221]
["Altersklassen","Frauen","Männer","Gesamt","In %"]
["unter 25",{"$f":"COUNTIFS(AS_1_Daten_Alterstruktur!$C$8:$C$306,\"<25\",AS_1_Daten_Alterstruktur!$B$8:$B$306,\"weiblich\",AS_1_Daten_Alterstruktur!$D$8:$D$306,$C$3)","v":1},{"$f":"COUNTIFS(AS_1_Daten_Alterstruktur!$C$8:$C$306,\"<25\",AS_1_Daten_Alterstruktur!$B$8:$B$306,\"männlich\",AS_1_Daten_Alterstruktur!$D$8:$D$306,$C$3)","v":1},{"$f":"COUNTIFS(AS_1_Daten_Alterstruktur!$C$8:$C$306,\"<25\",AS_1_Daten_Alterstruktur!$D$8:$D$306,$C$3)","v":2},{"$f":"IF($D$10=0,\"\",D5/$D$10)","v":0.16666666666666666}]
["25-34",{"$f":"COUNTIFS(AS_1_Daten_Alterstruktur!$C$8:$C$306,\">=25\",AS_1_Daten_Alterstruktur!$C$8:$C$306,\"<=34\",AS_1_Daten_Alterstruktur!$D$8:$D$306,$C$3,AS_1_Daten_Alterstruktur!$B$8:$B$306,\"weiblich\")","v":0},{"$f":"COUNTIFS(AS_1_Daten_Alterstruktur!$C$8:$C$306,\">=25\",AS_1_Daten_Alterstruktur!$C$8:$C$306,\"<=34\",AS_1_Daten_Alterstruktur!$D$8:$D$306,$C$3,AS_1_Daten_Alterstruktur!$B$8:$B$306,\"männlich\")","v":1},{"$f":"COUNTIFS(AS_1_Daten_Alterstruktur!$C$8:$C$306,\">=25\",AS_1_Daten_Alterstruktur!$C$8:$C$306,\"<=34\",AS_1_Daten_Alterstruktur!$D$8:$D$306,$C$3)","v":1},8.3333333333333329E-2]
["35-44",{"$f":"COUNTIFS(AS_1_Daten_Alterstruktur!$C$8:$C$306,\">=35\",AS_1_Daten_Alterstruktur!$C$8:$C$306,\"<=44\",AS_1_Daten_Alterstruktur!$D$8:$D$306,$C$3,AS_1_Daten_Alterstruktur!$B$8:$B$306,\"weiblich\")","v":0},{"$f":"COUNTIFS(AS_1_Daten_Alterstruktur!$C$8:$C$306,\">=35\",AS_1_Daten_Alterstruktur!$C$8:$C$306,\"<=44\",AS_1_Daten_Alterstruktur!$D$8:$D$306,$C$3,AS_1_Daten_Alterstruktur!$B$8:$B$306,\"männlich\")","v":2},{"$f":"COUNTIFS(AS_1_Daten_Alterstruktur!$C$8:$C$306,\">=35\",AS_1_Daten_Alterstruktur!$C$8:$C$306,\"<=44\",AS_1_Daten_Alterstruktur!$D$8:$D$306,$C$3)","v":2},0.16666666666666666]
["45-54",{"$f":"COUNTIFS(AS_1_Daten_Alterstruktur!$C$8:$C$306,\">=45\",AS_1_Daten_Alterstruktur!$C$8:$C$306,\"<=54\",AS_1_Daten_Alterstruktur!$D$8:$D$306,$C$3,AS_1_Daten_Alterstruktur!$B$8:$B$306,\"weiblich\")","v":0},{"$f":"COUNTIFS(AS_1_Daten_Alterstruktur!$C$8:$C$306,\">=45\",AS_1_Daten_Alterstruktur!$C$8:$C$306,\"<=54\",AS_1_Daten_Alterstruktur!$D$8:$D$306,$C$3,AS_1_Daten_Alterstruktur!$B$8:$B$306,\"männlich\")","v":1},{"$f":"COUNTIFS(AS_1_Daten_Alterstruktur!$C$8:$C$306,\">=45\",AS_1_Daten_Alterstruktur!$C$8:$C$306,\"<=54\",AS_1_Daten_Alterstruktur!$D$8:$D$306,$C$3)","v":1},8.3333333333333329E-2]
["55 und älter",{"$f":"COUNTIFS(AS_1_Daten_Alterstruktur!$C$8:$C$306,\">=55\",AS_1_Daten_Alterstruktur!$B$8:$B$306,\"weiblich\",AS_1_Daten_Alterstruktur!$D$8:$D$306,$C$3)","v":3},{"$f":"COUNTIFS(AS_1_Daten_Alterstruktur!$C$8:$C$306,\">=55\",AS_1_Daten_Alterstruktur!$B$8:$B$306,\"männlich\",AS_1_Daten_Alterstruktur!$D$8:$D$306,$C$3)","v":3},{"$f":"COUNTIFS(AS_1_Daten_Alterstruktur!$C$8:$C$306,\">=55\",AS_1_Daten_Alterstruktur!$D$8:$D$306,$C$3)","v":6},0.5]
["Gesamt",{"$f":"SUM(B5:B9)","v":4},{"$f":"SUM(C5:C9)","v":8},{"$f":"SUM(D5:D9)","v":12},1]
[]
["Abteilung/Bereich:",null,{"$f":"AS_1_Daten_Alterstruktur!B4","v":"Druck"}]
["Altersklassen","Frauen","Männer","Gesamt","In %"]
["unter 25",{"$f":"COUNTIFS(AS_1_Daten_Alterstruktur!$C$8:$C$306,\"<25\",AS_1_Daten_Alterstruktur!$B$8:$B$306,\"weiblich\",AS_1_Daten_Alterstruktur!$D$8:$D$306,C12)","v":3},{"$f":"COUNTIFS(AS_1_Daten_Alterstruktur!$C$8:$C$306,\"<25\",AS_1_Daten_Alterstruktur!$B$8:$B$306,\"männlich\",AS_1_Daten_Alterstruktur!$D$8:$D$306,C12)","v":5},{"$f":"COUNTIFS(AS_1_Daten_Alterstruktur!$C$8:$C$306,\"<25\",AS_1_Daten_Alterstruktur!$D$8:$D$306,C12)","v":8},{"$f":"IF($D$19=0,\"\",D14/$D$19)","v":0.72727272727272729}]
["25-34",{"$f":"COUNTIFS(AS_1_Daten_Alterstruktur!$C$8:$C$306,\">=25\",AS_1_Daten_Alterstruktur!$C$8:$C$306,\"<=34\",AS_1_Daten_Alterstruktur!$D$8:$D$306,C12,AS_1_Daten_Alterstruktur!$B$8:$B$306,\"weiblich\")","v":1},{"$f":"COUNTIFS(AS_1_Daten_Alterstruktur!$C$8:$C$306,\">=25\",AS_1_Daten_Alterstruktur!$C$8:$C$306,\"<=34\",AS_1_Daten_Alterstruktur!$D$8:$D$306,C12,AS_1_Daten_Alterstruktur!$B$8:$B$306,\"männlich\")","v":2},{"$f":"COUNTIFS(AS_1_Daten_Alterstruktur!$C$8:$C$306,\">=25\",AS_1_Daten_Alterstruktur!$C$8:$C$306,\"<=34\",AS_1_Daten_Alterstruktur!$D$8:$D$306,C12)","v":3},0.27272727272727271]
["35-44",{"$f":"COUNTIFS(AS_1_Daten_Alterstruktur!$C$8:$C$306,\">=35\",AS_1_Daten_Alterstruktur!$C$8:$C$306,\"<=44\",AS_1_Daten_Alterstruktur!$D$8:$D$306,C12,AS_1_Daten_Alterstruktur!$B$8:$B$306,\"weiblich\")","v":0},{"$f":"COUNTIFS(AS_1_Daten_Alterstruktur!$C$8:$C$306,\">=35\",AS_1_Daten_Alterstruktur!$C$8:$C$306,\"<=44\",AS_1_Daten_Alterstruktur!$D$8:$D$306,C12,AS_1_Daten_Alterstruktur!$B$8:$B$306,\"männlich\")","v":0},{"$f":"COUNTIFS(AS_1_Daten_Alterstruktur!$C$8:$C$306,\">=35\",AS_1_Daten_Alterstruktur!$C$8:$C$306,\"<=44\",AS_1_Daten_Alterstruktur!$D$8:$D$306,C12)","v":0},0]
["45-54",{"$f":"COUNTIFS(AS_1_Daten_Alterstruktur!$C$8:$C$306,\">=45\",AS_1_Daten_Alterstruktur!$C$8:$C$306,\"<=54\",AS_1_Daten_Alterstruktur!$D$8:$D$306,C12,AS_1_Daten_Alterstruktur!$B$8:$B$306,\"weiblich\")","v":0},{"$f":"COUNTIFS(AS_1_Daten_Alterstruktur!$C$8:$C$306,\">=45\",AS_1_Daten_Alterstruktur!$C$8:$C$306,\"<=54\",AS_1_Daten_Alterstruktur!$D$8:$D$306,C12,AS_1_Daten_Alterstruktur!$B$8:$B$306,\"männlich\")","v":0},{"$f":"COUNTIFS(AS_1_Daten_Alterstruktur!$C$8:$C$306,\">=45\",AS_1_Daten_Alterstruktur!$C$8:$C$306,\"<=54\",AS_1_Daten_Alterstruktur!$D$8:$D$306,C12)","v":0},0]
["55 und älter",{"$f":"COUNTIFS(AS_1_Daten_Alterstruktur!$C$8:$C$306,\">=55\",AS_1_Daten_Alterstruktur!$B$8:$B$306,\"weiblich\",AS_1_Daten_Alterstruktur!$D$8:$D$306,C12)","v":0},{"$f":"COUNTIFS(AS_1_Daten_Alterstruktur!$C$8:$C$306,\">=55\",AS_1_Daten_Alterstruktur!$B$8:$B$306,\"männlich\",AS_1_Daten_Alterstruktur!$D$8:$D$306,C12)","v":0},{"$f":"COUNTIFS(AS_1_Daten_Alterstruktur!$C$8:$C$306,\">=55\",AS_1_Daten_Alterstruktur!$D$8:$D$306,C12)","v":0},0]
["Gesamt",{"$f":"SUM(B14:B18)","v":4},{"$f":"SUM(C14:C18)","v":7},{"$f":"SUM(D14:D18)","v":11},1]
[]
["Abteilung/Bereich:",null,{"$f":"AS_1_Daten_Alterstruktur!C4","v":"Verarbeitung"}]
["Altersklassen","Frauen","Männer","Gesamt","In %",null,"Altersklassen","Frauen","Männer","Gesamt","In %"]
["unter 25",{"$f":"COUNTIFS(AS_1_Daten_Alterstruktur!$C$8:$C$306,\"<25\",AS_1_Daten_Alterstruktur!$B$8:$B$306,\"weiblich\",AS_1_Daten_Alterstruktur!$D$8:$D$306,C21)","v":3},{"$f":"COUNTIFS(AS_1_Daten_Alterstruktur!$C$8:$C$306,\"<25\",AS_1_Daten_Alterstruktur!$B$8:$B$306,\"männlich\",AS_1_Daten_Alterstruktur!$D$8:$D$306,C21)","v":7},{"$f":"COUNTIFS(AS_1_Daten_Alterstruktur!$C$8:$C$306,\"<25\",AS_1_Daten_Alterstruktur!$D$8:$D$306,C21)","v":10},{"$f":"IF($D$28=0,\"\",D23/$D$28)","v":0.30303030303030304},null,"unter 25",{"$f":"B5+B14+B23+B35+B44+B53","v":17},33,{"$f":"SUM(H23:I23)","v":50},{"$f":"J23/$J$28","v":0.34246575342465752}]
["25-34",{"$f":"COUNTIFS(AS_1_Daten_Alterstruktur!$C$8:$C$306,\">=25\",AS_1_Daten_Alterstruktur!$C$8:$C$306,\"<=34\",AS_1_Daten_Alterstruktur!$D$8:$D$306,C21,AS_1_Daten_Alterstruktur!$B$8:$B$306,\"weiblich\")","v":2},{"$f":"COUNTIFS(AS_1_Daten_Alterstruktur!$C$8:$C$306,\">=25\",AS_1_Daten_Alterstruktur!$C$8:$C$306,\"<=34\",AS_1_Daten_Alterstruktur!$D$8:$D$306,C21,AS_1_Daten_Alterstruktur!$B$8:$B$306,\"männlich\")","v":3},{"$f":"COUNTIFS(AS_1_Daten_Alterstruktur!$C$8:$C$306,\">=25\",AS_1_Daten_Alterstruktur!$C$8:$C$306,\"<=34\",AS_1_Daten_Alterstruktur!$D$8:$D$306,C21)","v":5},0.15151515151515152,null,"25-34",9,17,{"$f":"SUM(H24:I24)","v":26},0.17808219178082191]
["35-44",{"$f":"COUNTIFS(AS_1_Daten_Alterstruktur!$C$8:$C$306,\">=35\",AS_1_Daten_Alterstruktur!$C$8:$C$306,\"<=44\",AS_1_Daten_Alterstruktur!$D$8:$D$306,C21,AS_1_Daten_Alterstruktur!$B$8:$B$306,\"weiblich\")","v":0},{"$f":"COUNTIFS(AS_1_Daten_Alterstruktur!$C$8:$C$306,\">=35\",AS_1_Daten_Alterstruktur!$C$8:$C$306,\"<=44\",AS_1_Daten_Alterstruktur!$D$8:$D$306,C21,AS_1_Daten_Alterstruktur!$B$8:$B$306,\"männlich\")","v":4},{"$f":"COUNTIFS(AS_1_Daten_Alterstruktur!$C$8:$C$306,\">=35\",AS_1_Daten_Alterstruktur!$C$8:$C$306,\"<=44\",AS_1_Daten_Alterstruktur!$D$8:$D$306,C21)","v":4},0.12121212121212122,null,"35-44",0,15,15,0.10273972602739725]
["45-54",{"$f":"COUNTIFS(AS_1_Daten_Alterstruktur!$C$8:$C$306,\">=45\",AS_1_Daten_Alterstruktur!$C$8:$C$306,\"<=54\",AS_1_Daten_Alterstruktur!$D$8:$D$306,C21,AS_1_Daten_Alterstruktur!$B$8:$B$306,\"weiblich\")","v":0},{"$f":"COUNTIFS(AS_1_Daten_Alterstruktur!$C$8:$C$306,\">=45\",AS_1_Daten_Alterstruktur!$C$8:$C$306,\"<=54\",AS_1_Daten_Alterstruktur!$D$8:$D$306,C21,AS_1_Daten_Alterstruktur!$B$8:$B$306,\"männlich\")","v":2},{"$f":"COUNTIFS(AS_1_Daten_Alterstruktur!$C$8:$C$306,\">=45\",AS_1_Daten_Alterstruktur!$C$8:$C$306,\"<=54\",AS_1_Daten_Alterstruktur!$D$8:$D$306,C21)","v":2},6.0606060606060608E-2,null,"45-54",0,8,8,5.4794520547945202E-2]
["55 und älter",{"$f":"COUNTIFS(AS_1_Daten_Alterstruktur!$C$8:$C$306,\">=55\",AS_1_Daten_Alterstruktur!$B$8:$B$306,\"weiblich\",AS_1_Daten_Alterstruktur!$D$8:$D$306,C21)","v":6},{"$f":"COUNTIFS(AS_1_Daten_Alterstruktur!$C$8:$C$306,\">=55\",AS_1_Daten_Alterstruktur!$B$8:$B$306,\"männlich\",AS_1_Daten_Alterstruktur!$D$8:$D$306,C21)","v":6},{"$f":"COUNTIFS(AS_1_Daten_Alterstruktur!$C$8:$C$306,\">=55\",AS_1_Daten_Alterstruktur!$D$8:$D$306,C21)","v":12},0.36363636363636365,null,"55 und älter",23,24,47,0.32191780821917809]
["Gesamt",{"$f":"SUM(B23:B27)","v":11},{"$f":"SUM(C23:C27)","v":22},{"$f":"SUM(D23:D27)","v":33},1,null,"Gesamt",{"$f":"SUM(H23:H27)","v":49},{"$f":"SUM(I23:I27)","v":97},{"$f":"SUM(J23:J27)","v":146},1]
[]
[]
[]
[]
["Abteilung/Bereich:",null,{"$f":"AS_1_Daten_Alterstruktur!D4","v":"Digitale Medien"}]
["Altersklassen","Frauen","Männer","Gesamt","In %",null,"Durchschnittsalter:",null,"Frauen","Männer","Gesamt"]
["unter 25",{"$f":"COUNTIFS(AS_1_Daten_Alterstruktur!$C$8:$C$306,\"<25\",AS_1_Daten_Alterstruktur!$B$8:$B$306,\"weiblich\",AS_1_Daten_Alterstruktur!$D$8:$D$306,C33)","v":4},{"$f":"COUNTIFS(AS_1_Daten_Alterstruktur!$C$8:$C$306,\"<25\",AS_1_Daten_Alterstruktur!$B$8:$B$306,\"männlich\",AS_1_Daten_Alterstruktur!$D$8:$D$306,C33)","v":8},{"$f":"COUNTIFS(AS_1_Daten_Alterstruktur!$C$8:$C$306,\"<25\",AS_1_Daten_Alterstruktur!$D$8:$D$306,C33)","v":12},{"$f":"IF($D$40=0,\"\",D35/$D$40)","v":0.31578947368421051},null,null,null,{"$f":"SUMIFS(AS_1_Daten_Alterstruktur!C8:C306,AS_1_Daten_Alterstruktur!B8:B306,\"weiblich\")/COUNTIF(AS_1_Daten_Alterstruktur!B7:B306,\"weiblich\")","v":40.510204081632651},{"$f":"SUMIFS(AS_1_Daten_Alterstruktur!C8:C306,AS_1_Daten_Alterstruktur!B8:B306,\"männlich\")/COUNTIF(AS_1_Daten_Alterstruktur!B7:B306,\"männlich\")","v":40.03092783505155},{"$f":"SUM(AS_1_Daten_Alterstruktur!C8:C306)/COUNTA(AS_1_Daten_Alterstruktur!B8:B306)","v":40.19178082191781}]
["25-34",{"$f":"COUNTIFS(AS_1_Daten_Alterstruktur!$C$8:$C$306,\">=25\",AS_1_Daten_Alterstruktur!$C$8:$C$306,\"<=34\",AS_1_Daten_Alterstruktur!$D$8:$D$306,C33,AS_1_Daten_Alterstruktur!$B$8:$B$306,\"weiblich\")","v":3},{"$f":"COUNTIFS(AS_1_Daten_Alterstruktur!$C$8:$C$306,\">=25\",AS_1_Daten_Alterstruktur!$C$8:$C$306,\"<=34\",AS_1_Daten_Alterstruktur!$D$8:$D$306,C33,AS_1_Daten_Alterstruktur!$B$8:$B$306,\"männlich\")","v":5},{"$f":"COUNTIFS(AS_1_Daten_Alterstruktur!$C$8:$C$306,\">=25\",AS_1_Daten_Alterstruktur!$C$8:$C$306,\"<=34\",AS_1_Daten_Alterstruktur!$D$8:$D$306,C33)","v":8},0.21052631578947367]
["35-44",{"$f":"COUNTIFS(AS_1_Daten_Alterstruktur!$C$8:$C$306,\">=35\",AS_1_Daten_Alterstruktur!$C$8:$C$306,\"<=44\",AS_1_Daten_Alterstruktur!$D$8:$D$306,C33,AS_1_Daten_Alterstruktur!$B$8:$B$306,\"weiblich\")","v":0},{"$f":"COUNTIFS(AS_1_Daten_Alterstruktur!$C$8:$C$306,\">=35\",AS_1_Daten_Alterstruktur!$C$8:$C$306,\"<=44\",AS_1_Daten_Alterstruktur!$D$8:$D$306,C33,AS_1_Daten_Alterstruktur!$B$8:$B$306,\"männlich\")","v":4},{"$f":"COUNTIFS(AS_1_Daten_Alterstruktur!$C$8:$C$306,\">=35\",AS_1_Daten_Alterstruktur!$C$8:$C$306,\"<=44\",AS_1_Daten_Alterstruktur!$D$8:$D$306,C33)","v":4},0.10526315789473684]
["45-54",{"$f":"COUNTIFS(AS_1_Daten_Alterstruktur!$C$8:$C$306,\">=45\",AS_1_Daten_Alterstruktur!$C$8:$C$306,\"<=54\",AS_1_Daten_Alterstruktur!$D$8:$D$306,C33,AS_1_Daten_Alterstruktur!$B$8:$B$306,\"weiblich\")","v":0},{"$f":"COUNTIFS(AS_1_Daten_Alterstruktur!$C$8:$C$306,\">=45\",AS_1_Daten_Alterstruktur!$C$8:$C$306,\"<=54\",AS_1_Daten_Alterstruktur!$D$8:$D$306,C33,AS_1_Daten_Alterstruktur!$B$8:$B$306,\"männlich\")","v":2},{"$f":"COUNTIFS(AS_1_Daten_Alterstruktur!$C$8:$C$306,\">=45\",AS_1_Daten_Alterstruktur!$C$8:$C$306,\"<=54\",AS_1_Daten_Alterstruktur!$D$8:$D$306,C33)","v":2},5.2631578947368418E-2]
["55 und älter",{"$f":"COUNTIFS(AS_1_Daten_Alterstruktur!$C$8:$C$306,\">=55\",AS_1_Daten_Alterstruktur!$B$8:$B$306,\"weiblich\",AS_1_Daten_Alterstruktur!$D$8:$D$306,C33)","v":6},{"$f":"COUNTIFS(AS_1_Daten_Alterstruktur!$C$8:$C$306,\">=55\",AS_1_Daten_Alterstruktur!$B$8:$B$306,\"männlich\",AS_1_Daten_Alterstruktur!$D$8:$D$306,C33)","v":6},{"$f":"COUNTIFS(AS_1_Daten_Alterstruktur!$C$8:$C$306,\">=55\",AS_1_Daten_Alterstruktur!$D$8:$D$306,C33)","v":12},0.31578947368421051]
["Gesamt",{"$f":"SUM(B35:B39)","v":13},{"$f":"SUM(C35:C39)","v":25},{"$f":"SUM(D35:D39)","v":38},1]
[]
["Abteilung/Bereich:",null,{"$f":"AS_1_Daten_Alterstruktur!E4","v":"Vertrieb"}]
["Altersklassen","Frauen","Männer","Gesamt","In %",null,"Übersicht Alterstruktur Abteilungen/Bereiche:"]
["unter 25",{"$f":"COUNTIFS(AS_1_Daten_Alterstruktur!$C$8:$C$306,\"<25\",AS_1_Daten_Alterstruktur!$B$8:$B$306,\"weiblich\",AS_1_Daten_Alterstruktur!$D$8:$D$306,C42)","v":4},{"$f":"COUNTIFS(AS_1_Daten_Alterstruktur!$C$8:$C$306,\"<25\",AS_1_Daten_Alterstruktur!$B$8:$B$306,\"männlich\",AS_1_Daten_Alterstruktur!$D$8:$D$306,C42)","v":8},{"$f":"COUNTIFS(AS_1_Daten_Alterstruktur!$C$8:$C$306,\"<25\",AS_1_Daten_Alterstruktur!$D$8:$D$306,C42)","v":12},{"$f":"IF($D$49=0,\"\",D44/$D$49)","v":0.35294117647058826},null,null,{"$f":"C3","v":"Vorstufe"},{"$f":"C12","v":"Druck"},{"$f":"C21","v":"Verarbeitung"},{"$f":"C33","v":"Digitale Medien"},{"$f":"C42","v":"Vertrieb"},{"$f":"C51","v":"Kaufmännisch"}]
["25-34",{"$f":"COUNTIFS(AS_1_Daten_Alterstruktur!$C$8:$C$306,\">=25\",AS_1_Daten_Alterstruktur!$C$8:$C$306,\"<=34\",AS_1_Daten_Alterstruktur!$D$8:$D$306,C42,AS_1_Daten_Alterstruktur!$B$8:$B$306,\"weiblich\")","v":2},{"$f":"COUNTIFS(AS_1_Daten_Alterstruktur!$C$8:$C$306,\">=25\",AS_1_Daten_Alterstruktur!$C$8:$C$306,\"<=34\",AS_1_Daten_Alterstruktur!$D$8:$D$306,C42,AS_1_Daten_Alterstruktur!$B$8:$B$306,\"männlich\")","v":4},{"$f":"COUNTIFS(AS_1_Daten_Alterstruktur!$C$8:$C$306,\">=25\",AS_1_Daten_Alterstruktur!$C$8:$C$306,\"<=34\",AS_1_Daten_Alterstruktur!$D$8:$D$306,C42)","v":6},0.17647058823529413,null,"unter 25",{"$f":"IF($D$10=0,\"\",D5/$D$10)","v":0.16666666666666666},{"$f":"IF($D$19=0,\"\",D14/$D$19)","v":0.72727272727272729},{"$f":"IF($D$28=0,\"\",D23/$D$28)","v":0.30303030303030304},{"$f":"IF($D$40=0,\"\",D35/$D$40)","v":0.31578947368421051},{"$f":"IF($D$49=0,\"\",D44/$D$49)","v":0.35294117647058826},{"$f":"IF($D$58=0,\"\",D53/$D$58)","v":0.33333333333333331}]
["35-44",{"$f":"COUNTIFS(AS_1_Daten_Alterstruktur!$C$8:$C$306,\">=35\",AS_1_Daten_Alterstruktur!$C$8:$C$306,\"<=44\",AS_1_Daten_Alterstruktur!$D$8:$D$306,C42,AS_1_Daten_Alterstruktur!$B$8:$B$306,\"weiblich\")","v":0},{"$f":"COUNTIFS(AS_1_Daten_Alterstruktur!$C$8:$C$306,\">=35\",AS_1_Daten_Alterstruktur!$C$8:$C$306,\"<=44\",AS_1_Daten_Alterstruktur!$D$8:$D$306,C42,AS_1_Daten_Alterstruktur!$B$8:$B$306,\"männlich\")","v":3},{"$f":"COUNTIFS(AS_1_Daten_Alterstruktur!$C$8:$C$306,\">=35\",AS_1_Daten_Alterstruktur!$C$8:$C$306,\"<=44\",AS_1_Daten_Alterstruktur!$D$8:$D$306,C42)","v":3},8.8235294117647065E-2,null,"25-34",{"$f":"IF($D$10=0,\"\",D6/$D$10)","v":8.3333333333333329E-2},{"$f":"IF($D$19=0,\"\",D15/$D$19)","v":0.27272727272727271},{"$f":"IF($D$28=0,\"\",D24/$D$28)","v":0.15151515151515152},{"$f":"IF($D$40=0,\"\",D36/$D$40)","v":0.21052631578947367},{"$f":"IF($D$49=0,\"\",D45/$D$49)","v":0.17647058823529413},{"$f":"IF($D$58=0,\"\",D54/$D$58)","v":0.16666666666666666}]
["45-54",{"$f":"COUNTIFS(AS_1_Daten_Alterstruktur!$C$8:$C$306,\">=45\",AS_1_Daten_Alterstruktur!$C$8:$C$306,\"<=54\",AS_1_Daten_Alterstruktur!$D$8:$D$306,C42,AS_1_Daten_Alterstruktur!$B$8:$B$306,\"weiblich\")","v":0},{"$f":"COUNTIFS(AS_1_Daten_Alterstruktur!$C$8:$C$306,\">=45\",AS_1_Daten_Alterstruktur!$C$8:$C$306,\"<=54\",AS_1_Daten_Alterstruktur!$D$8:$D$306,C42,AS_1_Daten_Alterstruktur!$B$8:$B$306,\"männlich\")","v":2},{"$f":"COUNTIFS(AS_1_Daten_Alterstruktur!$C$8:$C$306,\">=45\",AS_1_Daten_Alterstruktur!$C$8:$C$306,\"<=54\",AS_1_Daten_Alterstruktur!$D$8:$D$306,C42)","v":2},5.8823529411764705E-2,null,"35-44",{"$f":"IF($D$10=0,\"\",D7/$D$10)","v":0.16666666666666666},{"$f":"IF($D$19=0,\"\",D16/$D$19)","v":0},{"$f":"IF($D$28=0,\"\",D25/$D$28)","v":0.12121212121212122},{"$f":"IF($D$40=0,\"\",D37/$D$40)","v":0.10526315789473684},{"$f":"IF($D$49=0,\"\",D46/$D$49)","v":8.8235294117647065E-2},{"$f":"IF($D$58=0,\"\",D55/$D$58)","v":0.1111111111111111}]
["55 und älter",{"$f":"COUNTIFS(AS_1_Daten_Alterstruktur!$C$8:$C$306,\">=55\",AS_1_Daten_Alterstruktur!$B$8:$B$306,\"weiblich\",AS_1_Daten_Alterstruktur!$D$8:$D$306,C42)","v":5},{"$f":"COUNTIFS(AS_1_Daten_Alterstruktur!$C$8:$C$306,\">=55\",AS_1_Daten_Alterstruktur!$B$8:$B$306,\"männlich\",AS_1_Daten_Alterstruktur!$D$8:$D$306,C42)","v":6},{"$f":"COUNTIFS(AS_1_Daten_Alterstruktur!$C$8:$C$306,\">=55\",AS_1_Daten_Alterstruktur!$D$8:$D$306,C42)","v":11},0.3235294117647059,null,"45-54",{"$f":"IF($D$10=0,\"\",D8/$D$10)","v":8.3333333333333329E-2},{"$f":"IF($D$19=0,\"\",D17/$D$19)","v":0},{"$f":"IF($D$28=0,\"\",D26/$D$28)","v":6.0606060606060608E-2},{"$f":"IF($D$40=0,\"\",D38/$D$40)","v":5.2631578947368418E-2},{"$f":"IF($D$49=0,\"\",D47/$D$49)","v":5.8823529411764705E-2},{"$f":"IF($D$58=0,\"\",D56/$D$58)","v":5.5555555555555552E-2}]
["Gesamt",{"$f":"SUM(B44:B48)","v":11},{"$f":"SUM(C44:C48)","v":23},{"$f":"SUM(D44:D48)","v":34},1,null,"55 und älter",{"$f":"IF($D$10=0,\"\",D9/$D$10)","v":0.5},{"$f":"IF($D$19=0,\"\",D18/$D$19)","v":0},{"$f":"IF($D$28=0,\"\",D27/$D$28)","v":0.36363636363636365},{"$f":"IF($D$40=0,\"\",D39/$D$40)","v":0.31578947368421051},{"$f":"IF($D$49=0,\"\",D48/$D$49)","v":0.3235294117647059},{"$f":"IF($D$58=0,\"\",D57/$D$58)","v":0.33333333333333331}]
[]
["Abteilung/Bereich:",null,{"$f":"AS_1_Daten_Alterstruktur!F4","v":"Kaufmännisch"}]
["Altersklassen","Frauen","Männer","Gesamt","In %"]
["unter 25",{"$f":"COUNTIFS(AS_1_Daten_Alterstruktur!$C$8:$C$306,\"<25\",AS_1_Daten_Alterstruktur!$B$8:$B$306,\"weiblich\",AS_1_Daten_Alterstruktur!$D$8:$D$306,C51)","v":2},{"$f":"COUNTIFS(AS_1_Daten_Alterstruktur!$C$8:$C$306,\"<25\",AS_1_Daten_Alterstruktur!$B$8:$B$306,\"männlich\",AS_1_Daten_Alterstruktur!$D$8:$D$306,C51)","v":4},{"$f":"COUNTIFS(AS_1_Daten_Alterstruktur!$C$8:$C$306,\"<25\",AS_1_Daten_Alterstruktur!$D$8:$D$306,C51)","v":6},{"$f":"IF($D$58=0,\"\",D53/$D$58)","v":0.33333333333333331}]
["25-34",{"$f":"COUNTIFS(AS_1_Daten_Alterstruktur!$C$8:$C$306,\">=25\",AS_1_Daten_Alterstruktur!$C$8:$C$306,\"<=34\",AS_1_Daten_Alterstruktur!$D$8:$D$306,C51,AS_1_Daten_Alterstruktur!$B$8:$B$306,\"weiblich\")","v":1},{"$f":"COUNTIFS(AS_1_Daten_Alterstruktur!$C$8:$C$306,\">=25\",AS_1_Daten_Alterstruktur!$C$8:$C$306,\"<=34\",AS_1_Daten_Alterstruktur!$D$8:$D$306,C51,AS_1_Daten_Alterstruktur!$B$8:$B$306,\"männlich\")","v":2},{"$f":"COUNTIFS(AS_1_Daten_Alterstruktur!$C$8:$C$306,\">=25\",AS_1_Daten_Alterstruktur!$C$8:$C$306,\"<=34\",AS_1_Daten_Alterstruktur!$D$8:$D$306,C51)","v":3},0.16666666666666666]
["35-44",{"$f":"COUNTIFS(AS_1_Daten_Alterstruktur!$C$8:$C$306,\">=35\",AS_1_Daten_Alterstruktur!$C$8:$C$306,\"<=44\",AS_1_Daten_Alterstruktur!$D$8:$D$306,C51,AS_1_Daten_Alterstruktur!$B$8:$B$306,\"weiblich\")","v":0},{"$f":"COUNTIFS(AS_1_Daten_Alterstruktur!$C$8:$C$306,\">=35\",AS_1_Daten_Alterstruktur!$C$8:$C$306,\"<=44\",AS_1_Daten_Alterstruktur!$D$8:$D$306,C51,AS_1_Daten_Alterstruktur!$B$8:$B$306,\"männlich\")","v":2},{"$f":"COUNTIFS(AS_1_Daten_Alterstruktur!$C$8:$C$306,\">=35\",AS_1_Daten_Alterstruktur!$C$8:$C$306,\"<=44\",AS_1_Daten_Alterstruktur!$D$8:$D$306,C51)","v":2},0.1111111111111111]
["45-54",{"$f":"COUNTIFS(AS_1_Daten_Alterstruktur!$C$8:$C$306,\">=45\",AS_1_Daten_Alterstruktur!$C$8:$C$306,\"<=54\",AS_1_Daten_Alterstruktur!$D$8:$D$306,C51,AS_1_Daten_Alterstruktur!$B$8:$B$306,\"weiblich\")","v":0},{"$f":"COUNTIFS(AS_1_Daten_Alterstruktur!$C$8:$C$306,\">=45\",AS_1_Daten_Alterstruktur!$C$8:$C$306,\"<=54\",AS_1_Daten_Alterstruktur!$D$8:$D$306,C51,AS_1_Daten_Alterstruktur!$B$8:$B$306,\"männlich\")","v":1},{"$f":"COUNTIFS(AS_1_Daten_Alterstruktur!$C$8:$C$306,\">=45\",AS_1_Daten_Alterstruktur!$C$8:$C$306,\"<=54\",AS_1_Daten_Alterstruktur!$D$8:$D$306,C51)","v":1},5.5555555555555552E-2]
["55 und älter",{"$f":"COUNTIFS(AS_1_Daten_Alterstruktur!$C$8:$C$306,\">=55\",AS_1_Daten_Alterstruktur!$B$8:$B$306,\"weiblich\",AS_1_Daten_Alterstruktur!$D$8:$D$306,C51)","v":3},{"$f":"COUNTIFS(AS_1_Daten_Alterstruktur!$C$8:$C$306,\">=55\",AS_1_Daten_Alterstruktur!$B$8:$B$306,\"männlich\",AS_1_Daten_Alterstruktur!$D$8:$D$306,C51)","v":3},{"$f":"COUNTIFS(AS_1_Daten_Alterstruktur!$C$8:$C$306,\">=55\",AS_1_Daten_Alterstruktur!$D$8:$D$306,C51)","v":6},0.33333333333333331]
["Gesamt",{"$f":"SUM(B53:B57)","v":6},{"$f":"SUM(C53:C57)","v":12},{"$f":"SUM(D53:D57)","v":18},1]

{"sheet":" AS_3_Ergebnis _Gesamt","index":3,"n_rows":109,"n_cols":10,"rows_kept":109,"cut":false,"hidden":false,"merged":[[8,7,9,9],[25,7,26,9],[40,7,41,9]]}
["1.3 Allgemeine Personalstruktur, Altersstruktur heute und in Zukunft"]
[]
["Altersklassen heute"]
[]
[]
[]
[null,"Altersklassen","Gesamt","In %",null,null,"Durchschnittsalter gesamt:",null,null,{"$f":"AS_2_Ergebnis_Altersstruktur!K35","v":40.19178082191781}]
[null,"unter 25",{"$f":"COUNTIFS(AS_1_Daten_Alterstruktur!$C$8:$C$306,\"<25\")","v":50},{"$f":"C8/$C$13","v":0.34246575342465752}]
[null,"25-34",{"$f":"COUNTIFS(AS_1_Daten_Alterstruktur!$C$8:$C$306,\">=25\",AS_1_Daten_Alterstruktur!$C$8:$C$306,\"<=34\")","v":26},0.17808219178082191,null,null,{"$f":"COUNTIF(AS_1_Daten_Alterstruktur!$C$8:$C$306,\">=65\")","v":0},"Personen altersbedingt ausgeschieden (>=65 Jahre)"]
[null,"35-44",{"$f":"COUNTIFS(AS_1_Daten_Alterstruktur!$C$8:$C$306,\">=35\",AS_1_Daten_Alterstruktur!$C$8:$C$306,\"<=44\")","v":15},0.10273972602739725]
[null,"45-54",{"$f":"COUNTIFS(AS_1_Daten_Alterstruktur!$C$8:$C$306,\">=45\",AS_1_Daten_Alterstruktur!$C$8:$C$306,\"<=54\")","v":8},5.4794520547945202E-2]
[null,"55 und älter",{"$f":"COUNTIFS(AS_1_Daten_Alterstruktur!$C$8:$C$306,\">=55\")","v":47},0.32191780821917809]
[null,"Gesamt",{"$f":"SUM(C8:C12)","v":146},1]
[]
[]
[]
[]
["Ausgehend vom heutigen Stand*"]
[]
["Altersklassen in 3 Jahren "]
[]
[]
[null,"Altersklassen","Gesamt","In %"]
[null,"unter 25",{"$f":"COUNTIFS(AS_1_Daten_Alterstruktur!$C$8:$C$306,\"<22\")","v":26},{"$f":"C24/$C$13","v":0.17808219178082191},null,null,"Durchschnittsalter gesamt:",null,null,{"$f":"SUMIF(AS_1_Daten_Alterstruktur!$C$8:$C$306,\"<62\")/(COUNT(AS_1_Daten_Alterstruktur!$C$8:$C$306)-G26)+3","v":36.508771929824562}]
[null,"25-34",{"$f":"COUNTIFS(AS_1_Daten_Alterstruktur!$C$8:$C$306,\">=22\",AS_1_Daten_Alterstruktur!$C$8:$C$306,\"<=31\")","v":41},0.28082191780821919]
[null,"35-44",{"$f":"COUNTIFS(AS_1_Daten_Alterstruktur!$C$8:$C$306,\">=32\",AS_1_Daten_Alterstruktur!$C$8:$C$306,\"<=41\")","v":9},6.1643835616438353E-2,null,null,{"$f":"COUNTIF(AS_1_Daten_Alterstruktur!$C$8:$C$306,\">=62\")","v":32},"Personen altersbedingt ausgeschieden (>=62 Jahre)"]
[null,"45-54",{"$f":"COUNTIFS(AS_1_Daten_Alterstruktur!$C$8:$C$306,\">=42\",AS_1_Daten_Alterstruktur!$C$8:$C$306,\"<=51\")","v":23},0.15753424657534246]
[null,"55 und älter",{"$f":"COUNTIFS(AS_1_Daten_Alterstruktur!$C$8:$C$306,\">=52\",AS_1_Daten_Alterstruktur!$C$8:$C$306,\"<62\")","v":15},0.10273972602739725]
[null,"Gesamt",{"$f":"SUM(C24:C28)","v":114},0.78082191780821919]
[]
[]
[]
[]
[]
["Altersklassen in 5 Jahren "]
[]
[null,"Altersklassen","Gesamt","In %"]
[null,"unter 25",{"$f":"COUNTIFS(AS_1_Daten_Alterstruktur!$C$8:$C$306,\"<20\")","v":8},{"$f":"C38/$C$13","v":5.4794520547945202E-2}]
[null,"25-34",{"$f":"COUNTIFS(AS_1_Daten_Alterstruktur!$C$8:$C$306,\">=20\",AS_1_Daten_Alterstruktur!$C$8:$C$306,\"<=29\")","v":51},0.34931506849315069,null,null,"Durchschnittsalter gesamt:",null,null,{"$f":"SUMIF(AS_1_Daten_Alterstruktur!$C$8:$C$306,\"<60\")/(COUNT(AS_1_Daten_Alterstruktur!$C$8:$C$306)-G41)+5","v":38.508771929824562}]
[null,"35-44",{"$f":"COUNTIFS(AS_1_Daten_Alterstruktur!$C$8:$C$306,\">=30\",AS_1_Daten_Alterstruktur!$C$8:$C$306,\"<=39\")","v":17},0.11643835616438356]
[null,"45-54",{"$f":"COUNTIFS(AS_1_Daten_Alterstruktur!$C$8:$C$306,\">=40\",AS_1_Daten_Alterstruktur!$C$8:$C$306,\"<=49\")","v":15},0.10273972602739725,null,null,{"$f":"COUNTIF(AS_1_Daten_Alterstruktur!$C$8:$C$306,\">=60\")","v":32},"Personen altersbedingt ausgeschieden (>=60 Jahre)"]
[null,"55 und älter",{"$f":"COUNTIFS(AS_1_Daten_Alterstruktur!$C$8:$C$306,\">=50\",AS_1_Daten_Alterstruktur!$C$8:$C$306,\"<60\")","v":23},0.15753424657534246]
[null,"Gesamt",{"$f":"SUM(C38:C42)","v":114},0.78082191780821919]
[]
[]
[]
[]
[]
[]
[]
[]
[]
[]
[]
[]
[]
[]
[]
[]
[]
[]
[]
[]
[]
[]
[]
[]
[]
[]
[]
[]
[]
[]
[]
[]
[]
[]
[]
[]
[]
[]
[]
[]
[]
[]
[]
[]
[]
[]
[]
[]
[]
[]
[]
[]
[]
[]
[]
[]
[]
[]
[]
[]
[]
[]
[]
[]
[]
["* Ohne Berücksichtigung von geplanten Arbeitsplatzauf- bzw. abbau"]

{"sheet":"AS_4_Ergebnis_Abteilungen","index":4,"n_rows":108,"n_cols":14,"rows_kept":108,"cut":false,"hidden":false,"merged":[]}
["1.3 Allgemeine Personalstruktur, Altersstruktur heute und in Zukunft"]
[]
[null,"Abteilung",{"$f":"AS_1_Daten_Alterstruktur!A4","v":"Vorstufe"}]
[]
[]
[null,"Altersklassen","Gesamt","In %",null,null,"Altersklassen","Gesamt","In %",null,null,"Altersklassen","Gesamt","In %"]
[null,"unter 25",{"$f":"COUNTIFS(AS_1_Daten_Alterstruktur!$C$8:$C$306,\"<25\",AS_1_Daten_Alterstruktur!$D$8:$D$306,$C$3)","v":2},{"$f":"C7/$C$12","v":0.16666666666666666},null,null,"unter 25",{"$f":"COUNTIFS(AS_1_Daten_Alterstruktur!$C$8:$C$306,\"<22\",AS_1_Daten_Alterstruktur!$D$8:$D$306,$C$3)","v":0},{"$f":"H7/$H$12","v":0},null,null,"unter 25",{"$f":"COUNTIFS(AS_1_Daten_Alterstruktur!$C$8:$C$306,\"<20\",AS_1_Daten_Alterstruktur!$D$8:$D$306,$C$3)","v":0},{"$f":"M7/$M$12","v":0}]
[null,"25-34",{"$f":"COUNTIFS(AS_1_Daten_Alterstruktur!$C$8:$C$306,\">=25\",AS_1_Daten_Alterstruktur!$C$8:$C$306,\"<=34\",AS_1_Daten_Alterstruktur!$D$8:$D$306,$C$3)","v":1},8.3333333333333329E-2,null,null,"25-34",{"$f":"COUNTIFS(AS_1_Daten_Alterstruktur!$C$8:$C$306,\">=22\",AS_1_Daten_Alterstruktur!$C$8:$C$306,\"<=31\",AS_1_Daten_Alterstruktur!$D$8:$D$306,$C$3)","v":3},0.375,null,null,"25-34",{"$f":"COUNTIFS(AS_1_Daten_Alterstruktur!$C$8:$C$306,\">=20\",AS_1_Daten_Alterstruktur!$C$8:$C$306,\"<=29\",AS_1_Daten_Alterstruktur!$D$8:$D$306,$C$3)","v":2},{"$f":"M8/$M$12","v":0.25}]
[null,"35-44",{"$f":"COUNTIFS(AS_1_Daten_Alterstruktur!$C$8:$C$306,\">=35\",AS_1_Daten_Alterstruktur!$C$8:$C$306,\"<=44\",AS_1_Daten_Alterstruktur!$D$8:$D$306,$C$3)","v":2},0.16666666666666666,null,null,"35-44",{"$f":"COUNTIFS(AS_1_Daten_Alterstruktur!$C$8:$C$306,\">=32\",AS_1_Daten_Alterstruktur!$C$8:$C$306,\"<=41\",AS_1_Daten_Alterstruktur!$D$8:$D$306,$C$3)","v":0},0,null,null,"35-44",{"$f":"COUNTIFS(AS_1_Daten_Alterstruktur!$C$8:$C$306,\">=30\",AS_1_Daten_Alterstruktur!$C$8:$C$306,\"<=39\",AS_1_Daten_Alterstruktur!$D$8:$D$306,$C$3)","v":1},0.125]
[null,"45-54",{"$f":"COUNTIFS(AS_1_Daten_Alterstruktur!$C$8:$C$306,\">=45\",AS_1_Daten_Alterstruktur!$C$8:$C$306,\"<=54\",AS_1_Daten_Alterstruktur!$D$8:$D$306,$C$3)","v":1},8.3333333333333329E-2,null,null,"45-54",{"$f":"COUNTIFS(AS_1_Daten_Alterstruktur!$C$8:$C$306,\">=42\",AS_1_Daten_Alterstruktur!$C$8:$C$306,\"<=51\",AS_1_Daten_Alterstruktur!$D$8:$D$306,$C$3)","v":3},0.375,null,null,"45-54",{"$f":"COUNTIFS(AS_1_Daten_Alterstruktur!$C$8:$C$306,\">=40\",AS_1_Daten_Alterstruktur!$C$8:$C$306,\"<=49\",AS_1_Daten_Alterstruktur!$D$8:$D$306,$C$3)","v":2},0.25]
[null,"55 und älter",{"$f":"COUNTIFS(AS_1_Daten_Alterstruktur!$C$8:$C$306,\">=55\",AS_1_Daten_Alterstruktur!$D$8:$D$306,$C$3)","v":6},0.5,null,null,"55 und älter",{"$f":"COUNTIFS(AS_1_Daten_Alterstruktur!$C$8:$C$306,\">=52\",AS_1_Daten_Alterstruktur!$D$8:$D$306,$C$3,AS_1_Daten_Alterstruktur!$C$8:$C$306,\"<62\")","v":2},0.25,null,null,"55 und älter",{"$f":"COUNTIFS(AS_1_Daten_Alterstruktur!$C$8:$C$306,\">=50\",AS_1_Daten_Alterstruktur!$D$8:$D$306,$C$3,AS_1_Daten_Alterstruktur!$C$8:$C$306,\"<60\")","v":3},0.375]
[null,"Gesamt",{"$f":"SUM(C7:C11)","v":12},1,null,null,"Gesamt",{"$f":"SUM(H7:H11)","v":8},1,null,null,"Gesamt",{"$f":"SUM(M7:M11)","v":8},1]
[]
[]
[]
[]
[]
[null,"Abteilung",{"$f":"AS_1_Daten_Alterstruktur!B4","v":"Druck"}]
[]
[]
[null,"Altersklassen","Gesamt","In %",null,null,"Altersklassen","Gesamt","In %",null,null,"Altersklassen","Gesamt","In %"]
[null,"unter 25",{"$f":"COUNTIFS(AS_1_Daten_Alterstruktur!$C$8:$C$306,\"<25\",AS_1_Daten_Alterstruktur!$D$8:$D$306,C18)","v":8},{"$f":"C22/$C$27","v":0.72727272727272729},null,null,"unter 25",{"$f":"COUNTIFS(AS_1_Daten_Alterstruktur!$C$8:$C$306,\"<22\",AS_1_Daten_Alterstruktur!$D$8:$D$306,C18)","v":7},{"$f":"H22/$H$27","v":0.53846153846153844},null,null,"unter 25",{"$f":"COUNTIFS(AS_1_Daten_Alterstruktur!$C$8:$C$306,\"<20\",AS_1_Daten_Alterstruktur!$D$8:$D$306,C18)","v":1},{"$f":"M22/$M$27","v":7.1428571428571425E-2}]
[null,"25-34",{"$f":"COUNTIFS(AS_1_Daten_Alterstruktur!$C$8:$C$306,\">=25\",AS_1_Daten_Alterstruktur!$C$8:$C$306,\"<=34\",AS_1_Daten_Alterstruktur!$D$8:$D$306,C18)","v":3},{"$f":"C23/$C$27","v":0.27272727272727271},null,null,"25-34",{"$f":"COUNTIFS(AS_1_Daten_Alterstruktur!$C$8:$C$306,\">=22\",AS_1_Daten_Alterstruktur!$C$8:$C$306,\"<=31\",AS_1_Daten_Alterstruktur!$D$8:$D$306,C18)","v":2},{"$f":"H23/$H$27","v":0.15384615384615385},null,null,"25-34",{"$f":"COUNTIFS(AS_1_Daten_Alterstruktur!$C$8:$C$306,\">=20\",AS_1_Daten_Alterstruktur!$C$8:$C$306,\"<=29\",AS_1_Daten_Alterstruktur!$D$8:$D$306,C18)","v":8},{"$f":"M23/$M$27","v":0.5714285714285714}]
[null,"35-44",{"$f":"COUNTIFS(AS_1_Daten_Alterstruktur!$C$8:$C$306,\">=35\",AS_1_Daten_Alterstruktur!$C$8:$C$306,\"<=44\",AS_1_Daten_Alterstruktur!$D$8:$D$306,C18)","v":0},0,null,null,"35-44",{"$f":"COUNTIFS(AS_1_Daten_Alterstruktur!$C$8:$C$306,\">=32\",AS_1_Daten_Alterstruktur!$C$8:$C$306,\"<=41\",AS_1_Daten_Alterstruktur!$D$8:$D$306,C18)","v":2},0.15384615384615385,null,null,"35-44",{"$f":"COUNTIFS(AS_1_Daten_Alterstruktur!$C$8:$C$306,\">=30\",AS_1_Daten_Alterstruktur!$C$8:$C$306,\"<=39\",AS_1_Daten_Alterstruktur!$D$8:$D$306,C18)","v":2},0.14285714285714285]
[null,"45-54",{"$f":"COUNTIFS(AS_1_Daten_Alterstruktur!$C$8:$C$306,\">=45\",AS_1_Daten_Alterstruktur!$C$8:$C$306,\"<=54\",AS_1_Daten_Alterstruktur!$D$8:$D$306,C18)","v":0},0,null,null,"45-54",{"$f":"COUNTIFS(AS_1_Daten_Alterstruktur!$C$8:$C$306,\">=42\",AS_1_Daten_Alterstruktur!$C$8:$C$306,\"<=51\",AS_1_Daten_Alterstruktur!$D$8:$D$306,C18)","v":0},0,null,null,"45-54",{"$f":"COUNTIFS(AS_1_Daten_Alterstruktur!$C$8:$C$306,\">=40\",AS_1_Daten_Alterstruktur!$C$8:$C$306,\"<=49\",AS_1_Daten_Alterstruktur!$D$8:$D$306,C18)","v":0},0]
[null,"55 und älter",{"$f":"COUNTIFS(AS_1_Daten_Alterstruktur!$C$8:$C$306,\">=55\",AS_1_Daten_Alterstruktur!$D$8:$D$306,C18)","v":0},0,null,null,"55 und älter",{"$f":"COUNTIFS(AS_1_Daten_Alterstruktur!$C$8:$C$306,\">=52\",AS_1_Daten_Alterstruktur!$D$8:$D$306,$C$3,AS_1_Daten_Alterstruktur!$C$8:$C$306,\"<62\")","v":2},0.15384615384615385,null,null,"55 und älter",{"$f":"COUNTIFS(AS_1_Daten_Alterstruktur!$C$8:$C$306,\">=50\",AS_1_Daten_Alterstruktur!$D$8:$D$306,$C$3,AS_1_Daten_Alterstruktur!$C$8:$C$306,\"<60\")","v":3},0.21428571428571427]
[null,"Gesamt",{"$f":"SUM(C22:C26)","v":11},1,null,null,"Gesamt",{"$f":"SUM(H22:H26)","v":13},1,null,null,"Gesamt",{"$f":"SUM(M22:M26)","v":14},1]
[]
[]
[]
[]
[]
[]
[]
[]
[]
[]
[]
[]
["1.3 Allgemeine Personalstruktur, Altersstruktur heute und in Zukunft"]
[]
[]
[null,"Abteilung",{"$f":"AS_1_Daten_Alterstruktur!C4","v":"Verarbeitung"}]
[]
[]
[null,"Altersklassen","Gesamt","In %",null,null,"Altersklassen","Gesamt","In %",null,null,"Altersklassen","Gesamt","In %"]
[null,"unter 25",{"$f":"COUNTIFS(AS_1_Daten_Alterstruktur!$C$8:$C$306,\"<25\",AS_1_Daten_Alterstruktur!$D$8:$D$306,C43)","v":10},{"$f":"C47/$C$52","v":0.30303030303030304},null,null,"unter 25",{"$f":"COUNTIFS(AS_1_Daten_Alterstruktur!$C$8:$C$306,\"<22\",AS_1_Daten_Alterstruktur!$D$8:$D$306,C43)","v":4},{"$f":"H47/$H$52","v":0.16},null,null,"unter 25",{"$f":"COUNTIFS(AS_1_Daten_Alterstruktur!$C$8:$C$306,\"<20\",AS_1_Daten_Alterstruktur!$D$8:$D$306,C43)","v":2},{"$f":"M47/$M$52","v":0.08}]
[null,"25-34",{"$f":"COUNTIFS(AS_1_Daten_Alterstruktur!$C$8:$C$306,\">=25\",AS_1_Daten_Alterstruktur!$C$8:$C$306,\"<=34\",AS_1_Daten_Alterstruktur!$D$8:$D$306,C43)","v":5},{"$f":"C48/$C$52","v":0.15151515151515152},null,null,"25-34",{"$f":"COUNTIFS(AS_1_Daten_Alterstruktur!$C$8:$C$306,\">=22\",AS_1_Daten_Alterstruktur!$C$8:$C$306,\"<=31\",AS_1_Daten_Alterstruktur!$D$8:$D$306,C43)","v":10},{"$f":"H48/$H$52","v":0.4},null,null,"25-34",{"$f":"COUNTIFS(AS_1_Daten_Alterstruktur!$C$8:$C$306,\">=20\",AS_1_Daten_Alterstruktur!$C$8:$C$306,\"<=29\",AS_1_Daten_Alterstruktur!$D$8:$D$306,C43)","v":10},{"$f":"M48/$M$52","v":0.4}]
[null,"35-44",{"$f":"COUNTIFS(AS_1_Daten_Alterstruktur!$C$8:$C$306,\">=35\",AS_1_Daten_Alterstruktur!$C$8:$C$306,\"<=44\",AS_1_Daten_Alterstruktur!$D$8:$D$306,C43)","v":4},0.12121212121212122,null,null,"35-44",{"$f":"COUNTIFS(AS_1_Daten_Alterstruktur!$C$8:$C$306,\">=32\",AS_1_Daten_Alterstruktur!$C$8:$C$306,\"<=41\",AS_1_Daten_Alterstruktur!$D$8:$D$306,C43)","v":1},0.04,null,null,"35-44",{"$f":"COUNTIFS(AS_1_Daten_Alterstruktur!$C$8:$C$306,\">=30\",AS_1_Daten_Alterstruktur!$C$8:$C$306,\"<=39\",AS_1_Daten_Alterstruktur!$D$8:$D$306,C43)","v":3},0.12]
[null,"45-54",{"$f":"COUNTIFS(AS_1_Daten_Alterstruktur!$C$8:$C$306,\">=45\",AS_1_Daten_Alterstruktur!$C$8:$C$306,\"<=54\",AS_1_Daten_Alterstruktur!$D$8:$D$306,C43)","v":2},6.0606060606060608E-2,null,null,"45-54",{"$f":"COUNTIFS(AS_1_Daten_Alterstruktur!$C$8:$C$306,\">=42\",AS_1_Daten_Alterstruktur!$C$8:$C$306,\"<=51\",AS_1_Daten_Alterstruktur!$D$8:$D$306,C43)","v":6},0.24,null,null,"45-54",{"$f":"COUNTIFS(AS_1_Daten_Alterstruktur!$C$8:$C$306,\">=40\",AS_1_Daten_Alterstruktur!$C$8:$C$306,\"<=49\",AS_1_Daten_Alterstruktur!$D$8:$D$306,C43)","v":4},0.16]
[null,"55 und älter",{"$f":"COUNTIFS(AS_1_Daten_Alterstruktur!$C$8:$C$306,\">=55\",AS_1_Daten_Alterstruktur!$D$8:$D$306,C43)","v":12},0.36363636363636365,null,null,"55 und älter",{"$f":"COUNTIFS(AS_1_Daten_Alterstruktur!$C$8:$C$306,\">=52\",AS_1_Daten_Alterstruktur!$D$8:$D$306,$C$43,AS_1_Daten_Alterstruktur!$C$8:$C$306,\"<62\")","v":4},0.16,null,null,"55 und älter",{"$f":"COUNTIFS(AS_1_Daten_Alterstruktur!$C$8:$C$306,\">=50\",AS_1_Daten_Alterstruktur!$D$8:$D$306,$C$43,AS_1_Daten_Alterstruktur!$C$8:$C$306,\"<60\")","v":6},0.24]
[null,"Gesamt",{"$f":"SUM(C47:C51)","v":33},1,null,null,"Gesamt",{"$f":"SUM(H47:H51)","v":25},1,null,null,"Gesamt",{"$f":"SUM(M47:M51)","v":25},1]
[]
[]
[]
[]
[]
[null,"Abteilung",{"$f":"AS_1_Daten_Alterstruktur!D4","v":"Digitale Medien"}]
[]
[]
[null,"Altersklassen","Gesamt","In %",null,null,"Altersklassen","Gesamt","In %",null,null,"Altersklassen","Gesamt","In %"]
[null,"unter 25",{"$f":"COUNTIFS(AS_1_Daten_Alterstruktur!$C$8:$C$306,\"<25\",AS_1_Daten_Alterstruktur!$D$8:$D$306,C58)","v":12},{"$f":"C62/$C$67","v":0.31578947368421051},null,null,"unter 25",{"$f":"COUNTIFS(AS_1_Daten_Alterstruktur!$C$8:$C$306,\"<22\",AS_1_Daten_Alterstruktur!$D$8:$D$306,C58)","v":6},{"$f":"H62/$H$67","v":0.2},null,null,"unter 25",{"$f":"COUNTIFS(AS_1_Daten_Alterstruktur!$C$8:$C$306,\"<20\",AS_1_Daten_Alterstruktur!$D$8:$D$306,C58)","v":2},{"$f":"M62/$M$67","v":6.6666666666666666E-2}]
[null,"25-34",{"$f":"COUNTIFS(AS_1_Daten_Alterstruktur!$C$8:$C$306,\">=25\",AS_1_Daten_Alterstruktur!$C$8:$C$306,\"<=34\",AS_1_Daten_Alterstruktur!$D$8:$D$306,C58)","v":8},{"$f":"C63/$C$67","v":0.21052631578947367},null,null,"25-34",{"$f":"COUNTIFS(AS_1_Daten_Alterstruktur!$C$8:$C$306,\">=22\",AS_1_Daten_Alterstruktur!$C$8:$C$306,\"<=31\",AS_1_Daten_Alterstruktur!$D$8:$D$306,C58)","v":11},{"$f":"H63/$H$67","v":0.36666666666666664},null,null,"25-34",{"$f":"COUNTIFS(AS_1_Daten_Alterstruktur!$C$8:$C$306,\">=20\",AS_1_Daten_Alterstruktur!$C$8:$C$306,\"<=29\",AS_1_Daten_Alterstruktur!$D$8:$D$306,C58)","v":13},{"$f":"M63/$M$67","v":0.43333333333333335}]
[null,"35-44",{"$f":"COUNTIFS(AS_1_Daten_Alterstruktur!$C$8:$C$306,\">=35\",AS_1_Daten_Alterstruktur!$C$8:$C$306,\"<=44\",AS_1_Daten_Alterstruktur!$D$8:$D$306,C58)","v":4},0.10526315789473684,null,null,"35-44",{"$f":"COUNTIFS(AS_1_Daten_Alterstruktur!$C$8:$C$306,\">=32\",AS_1_Daten_Alterstruktur!$C$8:$C$306,\"<=41\",AS_1_Daten_Alterstruktur!$D$8:$D$306,C58)","v":3},0.1,null,null,"35-44",{"$f":"COUNTIFS(AS_1_Daten_Alterstruktur!$C$8:$C$306,\">=30\",AS_1_Daten_Alterstruktur!$C$8:$C$306,\"<=39\",AS_1_Daten_Alterstruktur!$D$8:$D$306,C58)","v":5},0.16666666666666666]
[null,"45-54",{"$f":"COUNTIFS(AS_1_Daten_Alterstruktur!$C$8:$C$306,\">=45\",AS_1_Daten_Alterstruktur!$C$8:$C$306,\"<=54\",AS_1_Daten_Alterstruktur!$D$8:$D$306,C58)","v":2},5.2631578947368418E-2,null,null,"45-54",{"$f":"COUNTIFS(AS_1_Daten_Alterstruktur!$C$8:$C$306,\">=42\",AS_1_Daten_Alterstruktur!$C$8:$C$306,\"<=51\",AS_1_Daten_Alterstruktur!$D$8:$D$306,C58)","v":6},0.2,null,null,"45-54",{"$f":"COUNTIFS(AS_1_Daten_Alterstruktur!$C$8:$C$306,\">=40\",AS_1_Daten_Alterstruktur!$C$8:$C$306,\"<=49\",AS_1_Daten_Alterstruktur!$D$8:$D$306,C58)","v":4},0.13333333333333333]
[null,"55 und älter",{"$f":"COUNTIFS(AS_1_Daten_Alterstruktur!$C$8:$C$306,\">=55\",AS_1_Daten_Alterstruktur!$D$8:$D$306,C58)","v":12},0.31578947368421051,null,null,"55 und älter",{"$f":"COUNTIFS(AS_1_Daten_Alterstruktur!$C$8:$C$306,\">=52\",AS_1_Daten_Alterstruktur!$D$8:$D$306,$C$58,AS_1_Daten_Alterstruktur!$C$8:$C$306,\"<62\")","v":4},0.13333333333333333,null,null,"55 und älter",{"$f":"COUNTIFS(AS_1_Daten_Alterstruktur!$C$8:$C$306,\">=50\",AS_1_Daten_Alterstruktur!$D$8:$D$306,$C$58,AS_1_Daten_Alterstruktur!$C$8:$C$306,\"<60\")","v":6},0.2]
[null,"Gesamt",{"$f":"SUM(C62:C66)","v":38},1,null,null,"Gesamt",{"$f":"SUM(H62:H66)","v":30},1,null,null,"Gesamt",{"$f":"SUM(M62:M66)","v":30},1]
[]
[]
[]
[]
[]
[]
[]
[]
[]
[]
[]
["1.3 Allgemeine Personalstruktur, Altersstruktur heute und in Zukunft"]
[]
[]
[null,"Abteilung",{"$f":"AS_1_Daten_Alterstruktur!E4","v":"Vertrieb"}]
[]
[]
[null,"Altersklassen","Gesamt","In %",null,null,"Altersklassen","Gesamt","In %",null,null,"Altersklassen","Gesamt","In %"]
[null,"unter 25",{"$f":"COUNTIFS(AS_1_Daten_Alterstruktur!$C$8:$C$306,\"<25\",AS_1_Daten_Alterstruktur!$D$8:$D$306,C82)","v":12},{"$f":"C86/$C$91","v":0.35294117647058826},null,null,"unter 25",{"$f":"COUNTIFS(AS_1_Daten_Alterstruktur!$C$8:$C$306,\"<22\",AS_1_Daten_Alterstruktur!$D$8:$D$306,C82)","v":6},{"$f":"H86/$H$91","v":0.23076923076923078},null,null,"unter 25",{"$f":"COUNTIFS(AS_1_Daten_Alterstruktur!$C$8:$C$306,\"<20\",AS_1_Daten_Alterstruktur!$D$8:$D$306,C82)","v":2},{"$f":"M86/$M$91","v":7.6923076923076927E-2}]
[null,"25-34",{"$f":"COUNTIFS(AS_1_Daten_Alterstruktur!$C$8:$C$306,\">=25\",AS_1_Daten_Alterstruktur!$C$8:$C$306,\"<=34\",AS_1_Daten_Alterstruktur!$D$8:$D$306,C82)","v":6},{"$f":"C87/$C$91","v":0.17647058823529413},null,null,"25-34",{"$f":"COUNTIFS(AS_1_Daten_Alterstruktur!$C$8:$C$306,\">=22\",AS_1_Daten_Alterstruktur!$C$8:$C$306,\"<=31\",AS_1_Daten_Alterstruktur!$D$8:$D$306,C82)","v":10},{"$f":"H87/$H$91","v":0.38461538461538464},null,null,"25-34",{"$f":"COUNTIFS(AS_1_Daten_Alterstruktur!$C$8:$C$306,\">=20\",AS_1_Daten_Alterstruktur!$C$8:$C$306,\"<=29\",AS_1_Daten_Alterstruktur!$D$8:$D$306,C82)","v":12},{"$f":"M87/$M$91","v":0.46153846153846156}]
[null,"35-44",{"$f":"COUNTIFS(AS_1_Daten_Alterstruktur!$C$8:$C$306,\">=35\",AS_1_Daten_Alterstruktur!$C$8:$C$306,\"<=44\",AS_1_Daten_Alterstruktur!$D$8:$D$306,C82)","v":3},8.8235294117647065E-2,null,null,"35-44",{"$f":"COUNTIFS(AS_1_Daten_Alterstruktur!$C$8:$C$306,\">=32\",AS_1_Daten_Alterstruktur!$C$8:$C$306,\"<=41\",AS_1_Daten_Alterstruktur!$D$8:$D$306,C82)","v":2},7.6923076923076927E-2,null,null,"35-44",{"$f":"COUNTIFS(AS_1_Daten_Alterstruktur!$C$8:$C$306,\">=30\",AS_1_Daten_Alterstruktur!$C$8:$C$306,\"<=39\",AS_1_Daten_Alterstruktur!$D$8:$D$306,C82)","v":4},0.15384615384615385]
[null,"45-54",{"$f":"COUNTIFS(AS_1_Daten_Alterstruktur!$C$8:$C$306,\">=45\",AS_1_Daten_Alterstruktur!$C$8:$C$306,\"<=54\",AS_1_Daten_Alterstruktur!$D$8:$D$306,C82)","v":2},5.8823529411764705E-2,null,null,"45-54",{"$f":"COUNTIFS(AS_1_Daten_Alterstruktur!$C$8:$C$306,\">=42\",AS_1_Daten_Alterstruktur!$C$8:$C$306,\"<=51\",AS_1_Daten_Alterstruktur!$D$8:$D$306,C82)","v":5},0.19230769230769232,null,null,"45-54",{"$f":"COUNTIFS(AS_1_Daten_Alterstruktur!$C$8:$C$306,\">=40\",AS_1_Daten_Alterstruktur!$C$8:$C$306,\"<=49\",AS_1_Daten_Alterstruktur!$D$8:$D$306,C82)","v":3},0.11538461538461539]
[null,"55 und älter",{"$f":"COUNTIFS(AS_1_Daten_Alterstruktur!$C$8:$C$306,\">=55\",AS_1_Daten_Alterstruktur!$D$8:$D$306,C82)","v":11},0.3235294117647059,null,null,"55 und älter",{"$f":"COUNTIFS(AS_1_Daten_Alterstruktur!$C$8:$C$306,\">=52\",AS_1_Daten_Alterstruktur!$D$8:$D$306,$C$82,AS_1_Daten_Alterstruktur!$C$8:$C$306,\"<62\")","v":3},0.11538461538461539,null,null,"55 und älter",{"$f":"COUNTIFS(AS_1_Daten_Alterstruktur!$C$8:$C$306,\">=50\",AS_1_Daten_Alterstruktur!$D$8:$D$306,$C$82,AS_1_Daten_Alterstruktur!$C$8:$C$306,\"<60\")","v":5},0.19230769230769232]
[null,"Gesamt",{"$f":"SUM(C86:C90)","v":34},1,null,null,"Gesamt",{"$f":"SUM(H86:H90)","v":26},1,null,null,"Gesamt",{"$f":"SUM(M86:M90)","v":26},1]
[]
[]
[]
[]
[]
[]
[]
[null,"Abteilung",{"$f":"AS_1_Daten_Alterstruktur!F4","v":"Kaufmännisch"}]
[]
[]
[null,"Altersklassen","Gesamt","In %",null,null,"Altersklassen","Gesamt","In %",null,null,"Altersklassen","Gesamt","In %"]
[null,"unter 25",{"$f":"COUNTIFS(AS_1_Daten_Alterstruktur!$C$8:$C$306,\"<25\",AS_1_Daten_Alterstruktur!$D$8:$D$306,C99)","v":6},{"$f":"C103/$C$108","v":0.33333333333333331},null,null,"unter 25",{"$f":"COUNTIFS(AS_1_Daten_Alterstruktur!$C$8:$C$306,\"<22\",AS_1_Daten_Alterstruktur!$D$8:$D$306,C99)","v":3},{"$f":"H103/$H$108","v":0.21428571428571427},null,null,"unter 25",{"$f":"COUNTIFS(AS_1_Daten_Alterstruktur!$C$8:$C$306,\"<20\",AS_1_Daten_Alterstruktur!$D$8:$D$306,C99)","v":1},{"$f":"M103/$M$108","v":7.1428571428571425E-2}]
[null,"25-34",{"$f":"COUNTIFS(AS_1_Daten_Alterstruktur!$C$8:$C$306,\">=25\",AS_1_Daten_Alterstruktur!$C$8:$C$306,\"<=34\",AS_1_Daten_Alterstruktur!$D$8:$D$306,C99)","v":3},{"$f":"C104/$C$108","v":0.16666666666666666},null,null,"25-34",{"$f":"COUNTIFS(AS_1_Daten_Alterstruktur!$C$8:$C$306,\">=22\",AS_1_Daten_Alterstruktur!$C$8:$C$306,\"<=31\",AS_1_Daten_Alterstruktur!$D$8:$D$306,C99)","v":5},{"$f":"H104/$H$108","v":0.35714285714285715},null,null,"25-34",{"$f":"COUNTIFS(AS_1_Daten_Alterstruktur!$C$8:$C$306,\">=20\",AS_1_Daten_Alterstruktur!$C$8:$C$306,\"<=29\",AS_1_Daten_Alterstruktur!$D$8:$D$306,C99)","v":6},{"$f":"M104/$M$108","v":0.42857142857142855}]
[null,"35-44",{"$f":"COUNTIFS(AS_1_Daten_Alterstruktur!$C$8:$C$306,\">=35\",AS_1_Daten_Alterstruktur!$C$8:$C$306,\"<=44\",AS_1_Daten_Alterstruktur!$D$8:$D$306,C99)","v":2},0.1111111111111111,null,null,"35-44",{"$f":"COUNTIFS(AS_1_Daten_Alterstruktur!$C$8:$C$306,\">=32\",AS_1_Daten_Alterstruktur!$C$8:$C$306,\"<=41\",AS_1_Daten_Alterstruktur!$D$8:$D$306,C99)","v":1},7.1428571428571425E-2,null,null,"35-44",{"$f":"COUNTIFS(AS_1_Daten_Alterstruktur!$C$8:$C$306,\">=30\",AS_1_Daten_Alterstruktur!$C$8:$C$306,\"<=39\",AS_1_Daten_Alterstruktur!$D$8:$D$306,C99)","v":2},0.14285714285714285]
[null,"45-54",{"$f":"COUNTIFS(AS_1_Daten_Alterstruktur!$C$8:$C$306,\">=45\",AS_1_Daten_Alterstruktur!$C$8:$C$306,\"<=54\",AS_1_Daten_Alterstruktur!$D$8:$D$306,C99)","v":1},5.5555555555555552E-2,null,null,"45-54",{"$f":"COUNTIFS(AS_1_Daten_Alterstruktur!$C$8:$C$306,\">=42\",AS_1_Daten_Alterstruktur!$C$8:$C$306,\"<=51\",AS_1_Daten_Alterstruktur!$D$8:$D$306,C99)","v":3},0.21428571428571427,null,null,"45-54",{"$f":"COUNTIFS(AS_1_Daten_Alterstruktur!$C$8:$C$306,\">=40\",AS_1_Daten_Alterstruktur!$C$8:$C$306,\"<=49\",AS_1_Daten_Alterstruktur!$D$8:$D$306,C99)","v":2},0.14285714285714285]
[null,"55 und älter",{"$f":"COUNTIFS(AS_1_Daten_Alterstruktur!$C$8:$C$306,\">=55\",AS_1_Daten_Alterstruktur!$D$8:$D$306,C99)","v":6},0.33333333333333331,null,null,"55 und älter",{"$f":"COUNTIFS(AS_1_Daten_Alterstruktur!$C$8:$C$306,\">=52\",AS_1_Daten_Alterstruktur!$D$8:$D$306,$C$99,AS_1_Daten_Alterstruktur!$C$8:$C$306,\"<62\")","v":2},0.14285714285714285,null,null,"55 und älter",{"$f":"COUNTIFS(AS_1_Daten_Alterstruktur!$C$8:$C$306,\">=50\",AS_1_Daten_Alterstruktur!$D$8:$D$306,$C$99,AS_1_Daten_Alterstruktur!$C$8:$C$306,\"<60\")","v":3},0.21428571428571427]
[null,"Gesamt",{"$f":"SUM(C103:C107)","v":18},1,null,null,"Gesamt",{"$f":"SUM(H103:H107)","v":14},1,null,null,"Gesamt",{"$f":"SUM(M103:M107)","v":14},1]